BEGIN:VCALENDAR
METHOD:PUBLISH
PRODID:Data::ICal 0.13
VERSION:2.0
BEGIN:VEVENT
DESCRIPTION:Rick Springfield is making his return back to Indiana after performing at The Indianapolis 500 at Brown County Music Center on January 27th, 2023!\nBuy your tickets now at ticketmaster.com!
DTSTAMP:20260422T011711Z
DTSTART;TZID=America/Indiana/Indianapolis:20230127T193000
DTEND;TZID=America/Indiana/Indianapolis:20230127T233000
LOCATION:
SUMMARY:Rick Springfield Is Coming To Brown County Music Center!
UID:62949-1674847800-1674862200
END:VEVENT
END:VCALENDAR
