BEGIN:VCALENDAR
METHOD:PUBLISH
PRODID:Data::ICal 0.13
VERSION:2.0
BEGIN:VEVENT
DESCRIPTION:Don&#039;t miss your chance to step into your favorite Christmas movies at Alamo Drafthouse Cinema! 🎄🎬



Join our very own Nick Jordan on Thursday, December 18th for a festive night full of holiday cheer. ✨ Test your knowledge with holiday-themed trivia, enjoy fun giveaways and prizes, and settle in for a special big-screen showing of the beloved holiday classic, Elf. 



📲 Don&#039;t wait! Get your tickets today at alamoindy.com.
DTSTAMP:20260422T043728Z
DTSTART;TZID=America/Indiana/Indianapolis:20251218T200000
DTEND;TZID=America/Indiana/Indianapolis:20251218T220000
LOCATION:3898 Lafayette Road\, Indianapolis\, IN
SUMMARY:Join Nick Jordan at Alamo Drafthouse Cinema!
UID:661234-1766088000-1766095200
END:VEVENT
END:VCALENDAR
