BEGIN:VCALENDAR
METHOD:PUBLISH
PRODID:Data::ICal 0.13
VERSION:2.0
BEGIN:VEVENT
DESCRIPTION:Get tickets to see Sarah McLachlan with special guest Allison Russell, Sunday, July 19th at Everwise Amphitheater! 




Get TIckets
DTSTAMP:20260425T124924Z
DTSTART;TZID=America/Indiana/Indianapolis:20260721T193000
DTEND;TZID=America/Indiana/Indianapolis:20260721T223000
LOCATION:
SUMMARY:Get Tickets: Sarah McLachlan
UID:721397-1784662200-1784673000
END:VEVENT
END:VCALENDAR
