BEGIN:VCALENDAR
METHOD:PUBLISH
PRODID:Data::ICal 0.13
VERSION:2.0
BEGIN:VEVENT
DESCRIPTION:Get tickets to see the Laughing Matters Fundraiser featuring Iliza Shlesinger, Saturday, June 6th at Clowes Memorial Hall!  




Get Tickets!
DTSTAMP:20260424T143910Z
DTSTART;TZID=America/Indiana/Indianapolis:20260606T020300
DTEND;TZID=America/Indiana/Indianapolis:20260606T020300
LOCATION:
SUMMARY:Get Tickets: Laughing Matters Fundraiser Featuring Iliza Shlesinger
UID:715725-1780711380-1780711380
END:VEVENT
END:VCALENDAR
