BEGIN:VCALENDAR
METHOD:PUBLISH
PRODID:Data::ICal 0.13
VERSION:2.0
BEGIN:VEVENT
DESCRIPTION:Get tickets to see Giselle, April 17th at Clowes Memorial Hall! 




Get Tickets
DTSTAMP:20260420T104958Z
DTSTART;TZID=America/Indiana/Indianapolis:20260417T153613
DTEND;TZID=America/Indiana/Indianapolis:20260419T153613
LOCATION:
SUMMARY:Get Tickets: Giselle
UID:722590-1776440173-1776612973
END:VEVENT
END:VCALENDAR
