BEGIN:VCALENDAR
METHOD:PUBLISH
PRODID:Data::ICal 0.13
VERSION:2.0
BEGIN:VEVENT
DESCRIPTION:Get tickets to see Dave Matthews Band, Friday, June 26 at Ruoff Music Center! 




Get Tickets
DTSTAMP:20260424T142722Z
DTSTART;TZID=America/Indiana/Indianapolis:20260626T004633
DTEND;TZID=America/Indiana/Indianapolis:20260627T004633
LOCATION:
SUMMARY:Get Tickets: Dave Matthews Band
UID:721403-1782434793-1782521193
END:VEVENT
END:VCALENDAR
