BEGIN:VCALENDAR
METHOD:PUBLISH
PRODID:Data::ICal 0.13
VERSION:2.0
BEGIN:VEVENT
DESCRIPTION:Foreigner Juke Box Hero Tour is coming to Ruoff Home Mortgage Music Center on Saturday, July 25th 2020 with special guest Kansas and Europe! Tickets are on sale now at https://concerts1.livenation.com/foreigner
DTSTAMP:20260420T084638Z
DTSTART;TZID=America/Indiana/Indianapolis:19700101T000000
DTEND;TZID=America/Indiana/Indianapolis:19700101T000000
LOCATION:
SUMMARY:Foreigner Juke Box Hero Tour
UID:56988--
END:VEVENT
END:VCALENDAR
